BEGIN:VCALENDAR
VERSION:2.0
PRODID:-//Suzuki India Foundation - ECPv6.8.2//NONSGML v1.0//EN
CALSCALE:GREGORIAN
METHOD:PUBLISH
X-ORIGINAL-URL:http://13.232.70.27/suzuki
X-WR-CALDESC:Events for Suzuki India Foundation
REFRESH-INTERVAL;VALUE=DURATION:PT1H
X-Robots-Tag:noindex
X-PUBLISHED-TTL:PT1H
BEGIN:VTIMEZONE
TZID:UTC
BEGIN:STANDARD
TZOFFSETFROM:+0000
TZOFFSETTO:+0000
TZNAME:UTC
DTSTART:20250101T000000
END:STANDARD
END:VTIMEZONE
BEGIN:VEVENT
DTSTART;TZID=UTC:20250214T080000
DTEND;TZID=UTC:20250214T170000
DTSTAMP:20260420T135855
CREATED:20250109T054502Z
LAST-MODIFIED:20250109T054502Z
UID:3467-1739520000-1739552400@13.232.70.27
SUMMARY:Business Navigating Change a Opportunity
DESCRIPTION:To study the total process from inception to actual operation of industrial/manufacturing projects in different States from the perspective of identifying reasons\, if any\, that cause delays or add to avoidable cost\, identify the root causes for these and suggest changes that would lead to increased competitiveness of manufacturing in the States \nImplementing Partner \nIIM Bangalore \nIIM Lucknow \nIIM Mumbai \nIIT Delhi
URL:http://13.232.70.27/suzuki/event/business-navigating-change-a-opportunity/
LOCATION:Smartdata Soft\, 520 Berne Sq\, New Bern\, NC\, 28562\, United States
CATEGORIES:Upcoming Projects
ATTACH;FMTTYPE=image/jpeg:http://13.232.70.27/suzuki/wp-content/uploads/2025/01/event-02.jpg
ORGANIZER;CN="smart":MAILTO:noreply@smartdtatsoft.net
END:VEVENT
END:VCALENDAR